BEGIN:VCALENDAR
VERSION:2.0
PRODID:-//ChamberMaster//Event Calendar 2.0//EN
METHOD:PUBLISH
X-PUBLISHED-TTL:P1H
REFRESH-INTERVAL:P1H
CALSCALE:GREGORIAN
BEGIN:VTIMEZONE
TZID:America/Chicago
BEGIN:DAYLIGHT
RRULE:FREQ=YEARLY;BYMONTH=3;BYDAY=2SU
DTSTART:20070101T000000
TZOFFSETFROM:-0600
TZOFFSETTO:-0500
TZNAME:Central Daylight Time
END:DAYLIGHT
BEGIN:STANDARD
RRULE:FREQ=YEARLY;BYMONTH=11;BYDAY=1SU
DTSTART:20070101T000000
TZOFFSETFROM:-0500
TZOFFSETTO:-0600
TZNAME:Central Standard Time
END:STANDARD
END:VTIMEZONE
BEGIN:VEVENT
DTSTART;TZID=America/Chicago:20260410T070000
DTEND;TZID=America/Chicago:20260410T090000
X-MICROSOFT-CDO-ALLDAYEVENT:FALSE
SUMMARY:2026 Spring Bi-Annual/Installation Breakfast ~ April 10\, 2026
DESCRIPTION:Join the Jefferson County Growth Association for Breakfast as we conduct the JCGA Installation/Bi-Annual Spring Breakfast. Connect with fellow members of our organization. Discover more about past accomplishments and upcoming events. We will also have a featured guest speaker\, Ron Kitchens\, CEO of Greater St. Louis Inc. Ron will share his vision for Greater St. Louis and his plans for growth and better jobs in the region. This vision is best achieved through collaboration with the county and local elected officials in Jefferson County and throughout the region.
X-ALT-DESC;FMTTYPE=text/html:<!DOCTYPE html><html><head><title></title></head><body aria-disabled="false" data-gr-ext-installed="" data-new-gr-c-s-check-loaded="14.1275.0" data-new-gr-c-s-loaded="14.1275.0" spellcheck="false"><p><span style="font-family: Georgia\, serif\; font-size: 12px\;">Join the Jefferson County Growth Association for Breakfast as we conduct the JCGA Installation/Bi-Annual Spring Breakfast. Connect with fellow members of our organization. Discover more about past accomplishments and upcoming events. We will also have a featured guest speaker\, Ron Kitchens\, CEO of Greater St. Louis Inc.&nbsp\;</span></p><p><span style="font-family: Georgia\, serif\; font-size: 12px\;">Ron will share his vision for Greater St. Louis and his plans for growth and better jobs in the region. This vision is best achieved through collaboration with the county and local elected officials in Jefferson County and throughout the region.</span></p><div style="font-size: 18.6672px\; line-height: 1.4\; direction: ltr\; letter-spacing: 0em\; text-transform: none\; text-align: left\;"><p><br></p></div></body></html>
LOCATION:1275 North Truman Blvd. Festus MO 63028
UID:e.1645.1407626
SEQUENCE:3
DTSTAMP:20260424T143351Z
URL:https://jeffersoncountygrowthassociation.growthzoneapp.com/jefferson-county-calendar/Details/2026-spring-bi-annual-installation-breakfast-april-10-2026-1663683?sourceTypeId=Hub
END:VEVENT
END:VCALENDAR
