BEGIN:VCALENDAR
VERSION:2.0
PRODID:-//ChamberMaster//Event Calendar 2.0//EN
METHOD:PUBLISH
X-PUBLISHED-TTL:P1H
REFRESH-INTERVAL:P1H
CALSCALE:GREGORIAN
BEGIN:VTIMEZONE
TZID:America/Chicago
BEGIN:DAYLIGHT
RRULE:FREQ=YEARLY;BYMONTH=3;BYDAY=2SU
DTSTART:20070101T000000
TZOFFSETFROM:-0600
TZOFFSETTO:-0500
TZNAME:Central Daylight Time
END:DAYLIGHT
BEGIN:STANDARD
RRULE:FREQ=YEARLY;BYMONTH=11;BYDAY=1SU
DTSTART:20070101T000000
TZOFFSETFROM:-0500
TZOFFSETTO:-0600
TZNAME:Central Standard Time
END:STANDARD
END:VTIMEZONE
BEGIN:VEVENT
DTSTART;VALUE=DATE:20260612
DTEND;VALUE=DATE:20260613
TRANSP:TRANSPARENT
X-MICROSOFT-CDO-ALLDAYEVENT:TRUE
SUMMARY:37th Annual JCGA Golf Classic
DESCRIPTION:The JCGA Golf Classic has become a yearly tradition\, making this the 37th Annual Golf Tournament in 2026 to be held at Sugar Creek Golf Course. Space is limited to 36 teams. All packages include green fees\, golf cart\, putting green\, light lunch\, drinks on the course\, goodie bag\, and\, of course\, a wonderful day of golf with your JCGA friends! We offer several sponsorship opportunities with different levels of perks as well as chances to win prizes and flight awards such as the Men and Women's Longest Drive\, Closest to the Pin\, Hole-In-One Challenge\, and even the infamous Booze Barrel Raffle! We are looking forward to a wonderful day\, and best of luck!
X-ALT-DESC;FMTTYPE=text/html:The JCGA Golf Classic has become a yearly tradition\, making this the 37th Annual Golf Tournament in 2026 to be held at Sugar Creek Golf Course. Space is limited to 36 teams. All packages include green fees\, golf cart\, putting green\, light lunch\, drinks on the course\, goodie bag\, and\, of course\, a wonderful day of golf with your JCGA friends! We offer several sponsorship opportunities with different levels of perks as well as chances to win prizes and flight awards such as the Men and Women's Longest Drive\, Closest to the Pin\, Hole-In-One Challenge\, and even the infamous Booze Barrel Raffle! We are looking forward to a wonderful day\, and best of luck!
LOCATION:5224 Country Club Drive High Ridge MO 63049-3502
UID:e.1645.1413045
SEQUENCE:3
DTSTAMP:20260424T143351Z
URL:https://jeffersoncountygrowthassociation.growthzoneapp.com/jefferson-county-calendar/Details/37th-annual-jcga-golf-classic-1669931?sourceTypeId=Hub
END:VEVENT
END:VCALENDAR
