BEGIN:VCALENDAR
VERSION:2.0
PRODID:-//ChamberMaster//Event Calendar 2.0//EN
METHOD:PUBLISH
X-PUBLISHED-TTL:P1H
REFRESH-INTERVAL:P1H
CALSCALE:GREGORIAN
BEGIN:VTIMEZONE
TZID:America/Chicago
BEGIN:DAYLIGHT
RRULE:FREQ=YEARLY;BYMONTH=3;BYDAY=2SU
DTSTART:20070101T000000
TZOFFSETFROM:-0600
TZOFFSETTO:-0500
TZNAME:Central Daylight Time
END:DAYLIGHT
BEGIN:STANDARD
RRULE:FREQ=YEARLY;BYMONTH=11;BYDAY=1SU
DTSTART:20070101T000000
TZOFFSETFROM:-0500
TZOFFSETTO:-0600
TZNAME:Central Standard Time
END:STANDARD
END:VTIMEZONE
BEGIN:VEVENT
DTSTART;TZID=America/Chicago:20260416T080000
DTEND;TZID=America/Chicago:20260416T093000
X-MICROSOFT-CDO-ALLDAYEVENT:FALSE
SUMMARY:JCGA Businesswomen's Storyteller Social ~ April 16\, 2026
DESCRIPTION:Join us for breakfast in the beautiful setting of Villa Antonio Winery while listening to our guest speaker\, Leigh M. Ragsdale. Leigh will be sharing what she has learned about connection\, courage\, and showing up when it's hard.
X-ALT-DESC;FMTTYPE=text/html:<!DOCTYPE html><html><head><title></title></head><body aria-disabled="false" spellcheck="false"><p>Join us for breakfast in the beautiful setting of Villa Antonio Winery while listening to our guest speaker\, Leigh M. Ragsdale. Leigh will be sharing what she has learned about connection\, courage\, and showing up when it&#39\;s hard.&nbsp\;</p></body></html>
LOCATION:3660 Linhorst Road Hillsboro\, MO 63050
UID:e.1645.1414940
SEQUENCE:3
DTSTAMP:20260424T143355Z
URL:https://jeffersoncountygrowthassociation.growthzoneapp.com/jefferson-county-calendar/Details/jcga-businesswomen-s-storyteller-social-april-16-2026-1672355?sourceTypeId=Hub
END:VEVENT
END:VCALENDAR
